BEGIN:VCALENDAR
VERSION:2.0
PRODID:-//ChamberMaster//Event Calendar 2.0//EN
METHOD:PUBLISH
X-PUBLISHED-TTL:P3D
REFRESH-INTERVAL:P3D
CALSCALE:GREGORIAN
BEGIN:VEVENT
DTSTART:20120519T190000Z
DTEND:20120519T230000Z
X-MICROSOFT-CDO-ALLDAYEVENT:FALSE
SUMMARY:Celebrate Sacramento-05/19/12
DESCRIPTION:Assemblymember Roger Dickinson is hosting festivals around Sacramento to celebrate Sacramento and our community. With over 6\,000 attendees and over 100 informational booths our first Celebrate Sacramento was a great success.\n\n	Live music\, a variety of performances\, local food\, kids games and bounce houses\, there was something for everyone.\n\n	Planning for 2012 is now underway. Click on the link below to see how you can be part of the fun.\n\n	Booth Applications are now being accepted for our North Sacramento Festival.\n\n	Applications from Sacramento non-profit groups\, public agencies\, art/craft\, health/fitness and local business for booth spaces will be accepted through Wednesday\, September 14.
X-ALT-DESC;FMTTYPE=text/html:<p style="margin-bottom: 0in\; font-weight: normal">\n	Assemblymember Roger Dickinson is hosting festivals around Sacramento to celebrate Sacramento and our community. With over 6\,000 attendees and over 100 informational booths our first Celebrate Sacramento was a great success.</p>\n<p style="margin-bottom: 0in\; font-weight: normal">\n	Live music\, a variety of performances\, local food\, kids games and bounce houses\, there was something for everyone.</p>\n<p style="margin-bottom: 0in\; font-weight: normal">\n	Planning for 2012 is now underway. Click on the link below to see how you can be part of the fun.</p>\n<p style="margin-bottom: 0in\; font-weight: normal">\n	Booth Applications are now being accepted for our North Sacramento Festival.</p>\n<p style="margin-bottom: 0in\; font-weight: normal">\n	Applications from Sacramento non-profit groups\, public agencies\, art/craft\, health/fitness and local business for booth spaces will be accepted through Wednesday\, September 14.</p>\n<p style="margin-bottom: 0in\; font-weight: normal">\n	&nbsp\;</p>\n
LOCATION:Natomas High School 3301 Fong Ranch Road Sacramento CA 95833
UID:e.1155.578
SEQUENCE:3
DTSTAMP:20260423T011629Z
URL:https://business.natomaschamber.org/events/details/celebrate-sacramento-05-19-12-05-19-2012-578
END:VEVENT

END:VCALENDAR
