BEGIN:VCALENDAR
VERSION:2.0
PRODID:-//ChamberMaster//Event Calendar 2.0//EN
METHOD:PUBLISH
X-PUBLISHED-TTL:P3D
REFRESH-INTERVAL:P3D
CALSCALE:GREGORIAN
BEGIN:VEVENT
DTSTART:20120908T190000Z
DTEND:20120908T230000Z
X-MICROSOFT-CDO-ALLDAYEVENT:FALSE
SUMMARY:Celebrate Natomas!
DESCRIPTION:This event brings together the Natomas community to celebrate our rich diversity and showcase all that Natomas has to offer: from local businesses\, to performance groups\, to fun activities for children including carnival games and bounce houses. Participants can sit and relax while watching local talents perform or take a stroll and see what the many vendors have to offer. There will be food trucks\, a beer and wine garden\, art gallery\, and over 130 booths.\n	\n		\n\n		Read more here: http://events.sacbee.com/sacramento_ca/events/show/271765785-celebrate-natomas#storylink=cpy
X-ALT-DESC;FMTTYPE=text/html:<div style="color: gray">\n	This event brings together the Natomas community to celebrate our rich diversity and showcase all that Natomas has to offer: from local businesses\, to performance groups\, to fun activities for children including carnival games and bounce houses. Participants can sit and relax while watching local talents perform or take a stroll and see what the many vendors have to offer. There will be food trucks\, a beer and wine garden\, art gallery\, and over 130 booths.\n	<div style="text-align: left\; text-transform: none\; width: 1px\; font: 10pt sans-serif\; height: 1px\; color: rgb(0\,0\,0)\; overflow: hidden\; font-size-adjust: none\; font-stretch: normal">\n		<br />\n		Read more here: http://events.sacbee.com/sacramento_ca/events/show/271765785-celebrate-natomas#storylink=cpy<span _fck_bookmark="1" style="display: none">&nbsp\;</span></div>\n</div>\n
LOCATION:South Natomas Community Center 2921 Truxel Rd. Sacramento\, CA 95833 Read more here: http://events.sacbee.com/sacramento_ca/events/show/271765785-celebrate-natomas#storylink=cpy
UID:e.1155.596
SEQUENCE:3
DTSTAMP:20260422T174710Z
URL:https://business.natomaschamber.org/events/details/celebrate-natomas-09-08-2012-596
END:VEVENT

END:VCALENDAR
