BEGIN:VCALENDAR
VERSION:2.0
PRODID:-//ChamberMaster//Event Calendar 2.0//EN
METHOD:PUBLISH
X-PUBLISHED-TTL:P3D
REFRESH-INTERVAL:P3D
CALSCALE:GREGORIAN
BEGIN:VEVENT
DTSTART:20110725T190000Z
DTEND:20110726T020000Z
X-MICROSOFT-CDO-ALLDAYEVENT:FALSE
SUMMARY:CANCELLATION! - Natomas Golf Day @ Yolo Fliers Club
DESCRIPTION:Due to the low number of reservations received to-date\, the July 25th Natomas Golf Day Event has been cancelled.\n\n\n\nIf you had a reservation for this event\, Cecilia from Yolo Fliers Club will contact you.\n\nThere will be a Natomas Golf Day in the future\, so watch your N magazine for information.\n\n\n\nEvent Cancellation Flyer
X-ALT-DESC;FMTTYPE=text/html:Due to the low number of reservations received to-date\, the July 25th Natomas Golf Day Event has been cancelled.<br />\n<br />\nIf you had a reservation for this event\, Cecilia from Yolo Fliers Club will contact you.<br />\nThere will be a Natomas Golf Day in the future\, so watch your N magazine for information.<br />\n<br />\n<a href="http://cloud.chambermaster.com/userfiles/UserFiles/chambers/1155/File/Cancellation-NatomasGolfDayFlyer.jpg">Event Cancellation Flyer</a>
LOCATION:Yolo Fliers Club 17980 County Road 94B Woodland\, CA 95695 530.662.0281 x 100
UID:e.1155.264
SEQUENCE:3
DTSTAMP:20260423T161533Z
URL:https://business.natomaschamber.org/events/details/cancellation-natomas-golf-day-yolo-fliers-club-07-25-2011-264
END:VEVENT

END:VCALENDAR
