BEGIN:VCALENDAR
VERSION:2.0
PRODID:-//ChamberMaster//Event Calendar 2.0//EN
METHOD:PUBLISH
X-PUBLISHED-TTL:P3D
REFRESH-INTERVAL:P3D
CALSCALE:GREGORIAN
BEGIN:VEVENT
DTSTART:20110615T153000Z
DTEND:20110615T213000Z
X-MICROSOFT-CDO-ALLDAYEVENT:FALSE
SUMMARY:Business Walk June 15
DESCRIPTION:Natomas Business Walk June 15\n\n	Volunteers needed\n\n	Business Walk to survey Natomas economic conditions.\n\n	Volunteers will canvass local business to find out what's happening with the economy and how conditions can be improved.\n\n	The business walks help initiate contacts with businesses in the region and is the start of an ongoing conversation to help get business the resources they need to succeed.  Volunteers who are business people or agency staff will visit storefronts and business\, asking owners and manager three questions:\n\n	1.  How's business?\n\n	2.  What do you like about doing business in Natomas?\n\n	3.  How can business be improved?\n\n	"The Natomas Chamber is taking a proactive approach to help support businesses in Natomas\," said Ed Koop\, board president of the Natomas Chamber. "The chamber and city are going to walk the streets not only to figure out what businesses need but also to let businesses know we care and are here to help."\n\n	Businesspeople who would like to volunteer to be a business walker can call the Natomas Chamber of Commerce at (916) 564-7436 or Ed Koop at (916) 759-6144.\n\n	The business walk event\, 8:30 a.m. to 2:30 p.m.\, includes a breakfast and orientation\, three hours of business visits\, a lunch and roundup session.\n\n	\n\n	Press Release
X-ALT-DESC;FMTTYPE=text/html:<p>\n	<span style="font-family:arial\;"><span style="font-size: 12px\;"><strong>Natomas Business Walk June 15</strong><br />\n	<strong>Volunteers needed</strong></span></span></p>\n<p>\n	<span style="font-family:arial\;"><span style="font-size: 12px\;">Business Walk to survey Natomas economic conditions.</span></span></p>\n<p>\n	<span style="font-family:arial\;"><span style="font-size: 12px\;">Volunteers will canvass local business to find out what&#39\;s happening with the economy and how conditions can be improved.</span></span></p>\n<p>\n	<span style="font-family:arial\;"><span style="font-size: 12px\;">The business walks help initiate contacts with businesses in the region and is the start of an ongoing conversation to help get business the resources they need to succeed.&nbsp\; Volunteers who are business people or agency staff will visit storefronts and business\, asking owners and manager three questions:</span></span></p>\n<p>\n	<span style="font-family:arial\;"><span style="font-size: 12px\;">1.&nbsp\; How&#39\;s business?<br />\n	2.&nbsp\; What do you like about doing business in Natomas?<br />\n	3.&nbsp\; How can business be improved?</span></span></p>\n<p>\n	<span style="font-family:arial\;"><span style="font-size: 12px\;"><span color:="" new="" times="">&ldquo\;The Natomas Chamber is taking a proactive approach to help support businesses in Natomas\,&rdquo\; said Ed Koop\, board president of the Natomas Chamber. &ldquo\;The chamber and city are going to walk the streets not only to figure out what businesses need but also to let businesses know we care and are here to help.&rdquo\;</span></span></span></p>\n<p>\n	<span style="font-family:arial\;"><span style="font-size: 12px\;"><em><span new="" times="">Businesspeople who would like to volunteer to be a business walker can call the Natomas Chamber of Commerce at (916) 564-7436 or Ed Koop at (916) 759-6144.</span></em></span></span></p>\n<p>\n	<span style="font-family:arial\;"><span style="font-size: 12px\;"><span new="" times="">The business walk event\, 8:30 a.m. to 2:30 p.m.\, includes a breakfast and orientation\, three hours of business visits\, a lunch and roundup session.<br />\n	<a href="http://cloud.chambermaster.com/userfiles/UserFiles/chambers/1155/File/Business%20Walk%20June%2015%20Press%20Release.doc"><br />\n	Press Release</a></span></span></span></p>\n
LOCATION:Four Points Sheraton 4900 Duckhorn Drive\, in Natomas 95833
UID:e.1155.239
SEQUENCE:3
DTSTAMP:20260423T185522Z
URL:https://business.natomaschamber.org/events/details/business-walk-june-15-06-15-2011-239
END:VEVENT

END:VCALENDAR
