BEGIN:VCALENDAR
VERSION:2.0
PRODID:-//ChamberMaster//Event Calendar 2.0//EN
METHOD:PUBLISH
X-PUBLISHED-TTL:P3D
REFRESH-INTERVAL:P3D
CALSCALE:GREGORIAN
BEGIN:VEVENT
DTSTART:20121217T180000Z
DTEND:20121217T220000Z
X-MICROSOFT-CDO-ALLDAYEVENT:FALSE
SUMMARY:Buffalo Wild Wings Grand Opening Celebration
DESCRIPTION:Please come out and show your support for our newest Natomas Chamber of Commerce member.  We will be joining them for their Grand Opening and Ribbon Cutting Ceremony.  They are sure to be a wonderful addition to the Natomas community.
X-ALT-DESC;FMTTYPE=text/html:<br />\n<div>\n	<span><span style="font-size: 9pt\; font-family: Georgia\,Times New Roman\,Times\,Serif\;">Please come out and show your support for our newest Natomas Chamber of Commerce member.&nbsp\; We will be joining them for their Grand Opening and Ribbon Cutting Ceremony.&nbsp\; They are sure to be a wonderful addition to the Natomas community.</span></span></div>\n
LOCATION:Buffalo Wild Wings 3600 N. Freeway Blvd. Sacramento\, CA 95834
UID:e.1155.750
SEQUENCE:3
DTSTAMP:20260422T142646Z
URL:https://business.natomaschamber.org/events/details/buffalo-wild-wings-grand-opening-celebration-12-17-2012-750
END:VEVENT

END:VCALENDAR
