BEGIN:VCALENDAR
VERSION:2.0
PRODID:-//ChamberMaster//Event Calendar 2.0//EN
METHOD:PUBLISH
X-PUBLISHED-TTL:P3D
REFRESH-INTERVAL:P3D
CALSCALE:GREGORIAN
BEGIN:VEVENT
DTSTART:20140325T183000Z
DTEND:20140325T200000Z
X-MICROSOFT-CDO-ALLDAYEVENT:FALSE
SUMMARY:BNI Sac Metro Visitors Day
DESCRIPTION:Did you know that 98% of businesses rely on referrals to gain new business? Yet only 3% of businesses have a strategy for referrals? Make a commitment to grow your business in 2014 by joining BNI! Our primary purpose is to exchange qualified business referrals with our members. What makes BNI unique is that we only allow one person per profession to join a chapter. Thus once you've joined\, none of your competitors can participate.
X-ALT-DESC;FMTTYPE=text/html:Did you know that 98% of businesses rely on referrals to gain new business? Yet only 3% of businesses have a strategy for referrals? Make a commitment to grow your business in 2014 by joining BNI! Our primary purpose is to exchange qualified business referrals with our members. What makes BNI unique is that we only allow one person per profession to join a chapter. Thus once you&#39\;ve joined\, none of your competitors can participate.
LOCATION:Logan's Roadhouse\, 3698 N. Freeway Blvd.\, Sacramento\, CA 95834
UID:e.1155.1149
SEQUENCE:3
DTSTAMP:20260421T132725Z
URL:https://business.natomaschamber.org/events/details/bni-sac-metro-visitors-day-03-25-2014-1149
END:VEVENT

END:VCALENDAR
