BEGIN:VCALENDAR
VERSION:2.0
PRODID:-//ChamberMaster//Event Calendar 2.0//EN
METHOD:PUBLISH
X-PUBLISHED-TTL:P3D
REFRESH-INTERVAL:P3D
CALSCALE:GREGORIAN
BEGIN:VEVENT
DTSTART:20140225T193000Z
DTEND:20140225T210000Z
X-MICROSOFT-CDO-ALLDAYEVENT:FALSE
SUMMARY:BNI Sac Metro Visitor Day
DESCRIPTION:Make a commitment to grow your business in 2014 by joining BNI! Our primary purpose is to exchange qualified business referrals. The 145\,000 members of BNI worldwide passed over 7.1 million referrals which resulted in more than $3.3 billion in business. Member referrals have injected over $50 million of business into the Sacramento and the Central Valley economy! Since 1985 BNI referrals have generated $27.7 billion in business worldwide. What makes BNI unique is that we only allow one person per profession to join a chapter. Thus once you've joined\, none of your competitors can participate. Stop by our Visitor Day (bring plenty of business cards) and let us show you how we can help your business grow!
X-ALT-DESC;FMTTYPE=text/html:Make a commitment to grow your business in 2014 by joining BNI! Our primary purpose is to exchange qualified business referrals. The 145\,000 members of BNI worldwide passed over 7.1 million referrals which resulted in more than $3.3 billion in business. Member referrals have injected over $50 million of business into the Sacramento and the Central Valley economy! Since 1985 BNI referrals have generated $27.7 billion in business worldwide. What makes BNI unique is that we only allow one person per profession to join a chapter. Thus once you&#39\;ve joined\, none of your competitors can participate. Stop by our Visitor Day (bring plenty of business cards) and let us show you how we can help your business grow!
LOCATION:Logan's Roadhouse 3698 N. Freeway Blvd. Sacramento\, CA 95834
UID:e.1155.871
SEQUENCE:3
DTSTAMP:20260421T144536Z
URL:https://business.natomaschamber.org/events/details/bni-sac-metro-visitor-day-02-25-2014-871
END:VEVENT

END:VCALENDAR
