BEGIN:VCALENDAR
VERSION:2.0
PRODID:-//ChamberMaster//Event Calendar 2.0//EN
METHOD:PUBLISH
X-PUBLISHED-TTL:P3D
REFRESH-INTERVAL:P3D
CALSCALE:GREGORIAN
BEGIN:VEVENT
DTSTART:20130913T143000Z
DTEND:20130913T153000Z
X-MICROSOFT-CDO-ALLDAYEVENT:FALSE
SUMMARY:BNI Natomas Founders Visitors Breakfast
DESCRIPTION:The Natomas Founders chapter of BNI is hosting a visitor breakfast on Friday\, September 13th at 7:30 AM. Our members are looking for a number of business professionals that we can refer business to. \n				\n					 \n				\n					Bring plenty of business cards to share. Breakfast will be held at Black Bear Diner\, 2700 El Centro Road\, Sacramento (West El Camino and I-80). Contact steve@innervisionimages.com or call (916) 359-7543 for more information.
X-ALT-DESC;FMTTYPE=text/html:<div>\n	<div>\n		<div>\n			<div align="center" style="text-align: center\;">\n				<p align="left" style="margin-top: 0px\; margin-bottom: 0px\; color: #000000\; text-align: left\;">\n					The Natomas Founders chapter of BNI is hosting a visitor breakfast on&nbsp\;<span>Friday\, September 13th at 7:30 AM</span>.&nbsp\;Our members are looking for a number of business professionals that we can refer business to.&nbsp\;</p>\n				<p align="left" style="margin-top: 0px\; margin-bottom: 0px\; color: #000000\; text-align: left\;">\n					&nbsp\;</p>\n				<p align="left" style="margin-top: 0px\; margin-bottom: 0px\; color: #000000\; text-align: left\;">\n					Bring plenty of business cards to share.&nbsp\;Breakfast will be held at Black Bear Diner\, 2700 El Centro Road\, Sacramento (West El Camino and I-80). Contact&nbsp\;<a shape="rect" style="color: rgb(0\, 0\, 0)\;">steve@innervisionimages.com</a>&nbsp\;or call&nbsp\;<a shape="rect" style="color: rgb(0\, 0\, 0)\;">(916) 359-7543</a>&nbsp\;for more information.</p>\n			</div>\n		</div>\n	</div>\n</div>\n
LOCATION:Breakfast will be held at Black Bear Diner\, 2700 El Centro Road\, Sacramento (West El Camino and I-80).
UID:e.1155.862
SEQUENCE:3
DTSTAMP:20260421T221017Z
URL:https://business.natomaschamber.org/events/details/bni-natomas-founders-visitors-breakfast-09-13-2013-862
END:VEVENT

END:VCALENDAR
