BEGIN:VCALENDAR
VERSION:2.0
PRODID:-//ChamberMaster//Event Calendar 2.0//EN
METHOD:PUBLISH
X-PUBLISHED-TTL:P3D
REFRESH-INTERVAL:P3D
CALSCALE:GREGORIAN
BEGIN:VEVENT
DTSTART:20130405T140000Z
DTEND:20130405T140000Z
X-MICROSOFT-CDO-ALLDAYEVENT:FALSE
SUMMARY:BNI Founders Visitor's Day
DESCRIPTION:The Natomas Founders chapter of BNI will be sponsoring a Visitor's Day on Friday\, April  5\, 2013.  The event will be held from 7:00 am to 8:30 am at Black Bear Diner located at 2700 El Centro Road (at West El Camino).\n\n \n\nPlease join us for breakfast and learn how our dedication to the "Giver's Gain" philosophy can help grow your business and how you can become a part of our\, exciting\,  growing organization.\n\n \n\nPlease contact Chery Kiyan at (916) 380-2924 or Cheryl_kiyan@us.aflac.com for additional information or to reserve a seat.
X-ALT-DESC;FMTTYPE=text/html:The Natomas Founders chapter of BNI will be sponsoring a Visitor&rsquo\;s Day on Friday\, April&nbsp\; 5\, 2013.&nbsp\; The event will be held from 7:00 am to 8:30 am at Black Bear Diner located at 2700 El Centro Road (at West El Camino).<br />\n&nbsp\;<br />\nPlease join us for breakfast and learn how our dedication to the &ldquo\;Giver&rsquo\;s Gain&rdquo\; philosophy can help grow your business and how you can become a part of our\, exciting\, &nbsp\;growing organization.<br />\n&nbsp\;<br />\nPlease contact Chery Kiyan at <a href="tel:%28916%29%20380-2924" target="_blank" value="+19163802924">(916) 380-2924</a> or <a href="mailto:Cheryl_kiyan@us.aflac.com" target="_blank">Cheryl_kiyan@us.aflac.com</a> for additional information or to reserve a seat.
LOCATION:
UID:e.1155.793
SEQUENCE:3
DTSTAMP:20260422T060035Z
URL:https://business.natomaschamber.org/events/details/bni-founders-visitor-s-day-04-05-2013-793
END:VEVENT

END:VCALENDAR
