BEGIN:VCALENDAR
VERSION:2.0
PRODID:-//ChamberMaster//Event Calendar 2.0//EN
METHOD:PUBLISH
X-PUBLISHED-TTL:P3D
REFRESH-INTERVAL:P3D
CALSCALE:GREGORIAN
BEGIN:VEVENT
DTSTART:20120509T150000Z
DTEND:20120509T160000Z
X-MICROSOFT-CDO-ALLDAYEVENT:FALSE
SUMMARY:B2B Mixer-Sutter Express Care-5/9/12
DESCRIPTION:Our Monthly Morning B2B Coffee Mixers are great opportunities to start your business day with some coffee\, refreshments and opportunities to network with others in the local business community. Bring plenty of business cards. Attendance is FREE
X-ALT-DESC;FMTTYPE=text/html:Our Monthly Morning B2B Coffee Mixers are great opportunities to start your business day with some coffee\, refreshments and opportunities to network with others in the local business community. Bring plenty of business cards. Attendance is FREE
LOCATION:Sutter Express Care-Inside Rite Aid near the pharmacy. 2751 Del Paso Road\, Sacramento CA 95835 in the Safeway shopping center.
UID:e.1155.294
SEQUENCE:3
DTSTAMP:20260422T233810Z
URL:https://business.natomaschamber.org/events/details/b2b-mixer-sutter-express-care-5-9-12-05-09-2012-294
END:VEVENT

END:VCALENDAR
