BEGIN:VCALENDAR
VERSION:2.0
PRODID:-//ChamberMaster//Event Calendar 2.0//EN
METHOD:PUBLISH
X-PUBLISHED-TTL:P3D
REFRESH-INTERVAL:P3D
CALSCALE:GREGORIAN
BEGIN:VEVENT
DTSTART:20120808T150000Z
DTEND:20120808T160000Z
X-MICROSOFT-CDO-ALLDAYEVENT:FALSE
SUMMARY:B2B Mixer-Smog Diagnostic Specialist-8/8/12
DESCRIPTION:Our Monthly Morning B2B Coffee Mixers are great opportunities to start your business day with some coffee\, refreshments and opportunities to network with others in the local business community. Bring plenty of business cards. Attendance is FREE
X-ALT-DESC;FMTTYPE=text/html:Our Monthly Morning B2B Coffee Mixers are great opportunities to start your business day with some coffee\, refreshments and opportunities to network with others in the local business community. Bring plenty of business cards. Attendance is FREE
LOCATION:Smog Diagnostic Specialist 3251 Northgate Blvd Sacramento\, CA 95833
UID:e.1155.297
SEQUENCE:3
DTSTAMP:20260422T204339Z
URL:https://business.natomaschamber.org/events/details/b2b-mixer-smog-diagnostic-specialist-8-8-12-08-08-2012-297
END:VEVENT

END:VCALENDAR
