BEGIN:VCALENDAR
VERSION:2.0
PRODID:-//ChamberMaster//Event Calendar 2.0//EN
METHOD:PUBLISH
X-PUBLISHED-TTL:P3D
REFRESH-INTERVAL:P3D
CALSCALE:GREGORIAN
BEGIN:VEVENT
DTSTART:20121010T150000Z
DTEND:20121010T160000Z
X-MICROSOFT-CDO-ALLDAYEVENT:FALSE
SUMMARY:B2B Mixer-North Natomas TMA-10/10/12
DESCRIPTION:Our Monthly Morning B2B Coffee Mixers are great opportunities to start your business day with some coffee\, refreshments and opportunities to network with others in the local business community. Bring plenty of business cards. Attendance is FREE
X-ALT-DESC;FMTTYPE=text/html:Our Monthly Morning B2B Coffee Mixers are great opportunities to start your business day with some coffee\, refreshments and opportunities to network with others in the local business community. Bring plenty of business cards. Attendance is FREE
LOCATION:1960 Del Paso Rd Suite #146\, Sacramento 95834
UID:e.1155.300
SEQUENCE:3
DTSTAMP:20260422T160424Z
URL:https://business.natomaschamber.org/events/details/b2b-mixer-north-natomas-tma-10-10-12-10-10-2012-300
END:VEVENT

END:VCALENDAR
