BEGIN:VCALENDAR
VERSION:2.0
PRODID:-//ChamberMaster//Event Calendar 2.0//EN
METHOD:PUBLISH
X-PUBLISHED-TTL:P3D
REFRESH-INTERVAL:P3D
CALSCALE:GREGORIAN
BEGIN:VEVENT
DTSTART:20120314T150000Z
DTEND:20120314T160000Z
X-MICROSOFT-CDO-ALLDAYEVENT:FALSE
SUMMARY:B2B Mixer-Natomas Crossing Dental Care-3/14/12
DESCRIPTION:Our Monthly Morning B2B Coffee Mixers are great opportunities to start your business day with some coffee\, refreshments and opportunities to network with others in the local business community. Bring plenty of business cards. Attendance is FREE
X-ALT-DESC;FMTTYPE=text/html:Our Monthly Morning B2B Coffee Mixers are great opportunities to start your business day with some coffee\, refreshments and opportunities to network with others in the local business community. Bring plenty of business cards. Attendance is FREE
LOCATION:2121 Natomas Crossing Drive\; Suite 100\, Sacramento 95834
UID:e.1155.292
SEQUENCE:3
DTSTAMP:20260423T024833Z
URL:https://business.natomaschamber.org/events/details/b2b-mixer-natomas-crossing-dental-care-3-14-12-03-14-2012-292
END:VEVENT

END:VCALENDAR
