BEGIN:VCALENDAR
VERSION:2.0
PRODID:-//ChamberMaster//Event Calendar 2.0//EN
METHOD:PUBLISH
X-PUBLISHED-TTL:P3D
REFRESH-INTERVAL:P3D
CALSCALE:GREGORIAN
BEGIN:VEVENT
DTSTART:20121114T160000Z
DTEND:20121114T170000Z
X-MICROSOFT-CDO-ALLDAYEVENT:FALSE
SUMMARY:B2B Mixer-My Home Medical/Personalized Home Care and Homemaker Inc-11/14/12
DESCRIPTION:Our Monthly Morning B2B Coffee Mixers are great opportunities to start your business day with some coffee\, refreshments and opportunities to network with others in the local business community. Bring plenty of business cards. Attendance is FREE
X-ALT-DESC;FMTTYPE=text/html:Our Monthly Morning B2B Coffee Mixers are great opportunities to start your business day with some coffee\, refreshments and opportunities to network with others in the local business community. Bring plenty of business cards. Attendance is FREE
LOCATION:Co Sponsor Location: 4600 Northgate Blvd\, Suite 240 Sacramento\, CA 95834
UID:e.1155.298
SEQUENCE:3
DTSTAMP:20260422T142843Z
URL:https://business.natomaschamber.org/events/details/b2b-mixer-my-home-medical-personalized-home-care-and-homemaker-inc-11-14-12-11-14-2012-298
END:VEVENT

END:VCALENDAR
