BEGIN:VCALENDAR
VERSION:2.0
PRODID:-//ChamberMaster//Event Calendar 2.0//EN
METHOD:PUBLISH
X-PUBLISHED-TTL:P3D
REFRESH-INTERVAL:P3D
CALSCALE:GREGORIAN
BEGIN:VEVENT
DTSTART:20121212T160000Z
DTEND:20121212T170000Z
X-MICROSOFT-CDO-ALLDAYEVENT:FALSE
SUMMARY:B2B Mixer-Gilbert & Associates-12/12/12
DESCRIPTION:Our Monthly Morning B2B Coffee Mixers are great opportunities to start your business day with some coffee\, refreshments and opportunities to network with others in the local business community. Bring plenty of business cards. Attendance is FREE
X-ALT-DESC;FMTTYPE=text/html:Our Monthly Morning B2B Coffee Mixers are great opportunities to start your business day with some coffee\, refreshments and opportunities to network with others in the local business community. Bring plenty of business cards. Attendance is FREE
LOCATION:2880 Gateway Oaks Drive\, #100\, Sacramento 95833
UID:e.1155.301
SEQUENCE:3
DTSTAMP:20260422T124003Z
URL:https://business.natomaschamber.org/events/details/b2b-mixer-gilbert-associates-12-12-12-12-12-2012-301
END:VEVENT

END:VCALENDAR
