BEGIN:VCALENDAR
VERSION:2.0
PRODID:-//ChamberMaster//Event Calendar 2.0//EN
METHOD:PUBLISH
X-PUBLISHED-TTL:P3D
REFRESH-INTERVAL:P3D
CALSCALE:GREGORIAN
BEGIN:VEVENT
DTSTART:20120613T150000Z
DTEND:20120613T160000Z
X-MICROSOFT-CDO-ALLDAYEVENT:FALSE
SUMMARY:B2B Mixer-Dragon Fire Martial Arts-6/13/12
DESCRIPTION:Our Monthly Morning B2B Coffee Mixers are great opportunities to start your business day with some coffee\, refreshments and opportunities to network with others in the local business community. Bring plenty of business cards. Attendance is FREE
X-ALT-DESC;FMTTYPE=text/html:Our Monthly Morning B2B Coffee Mixers are great opportunities to start your business day with some coffee\, refreshments and opportunities to network with others in the local business community. Bring plenty of business cards. Attendance is FREE
LOCATION:Dragon Fire Martial Arts located at 1500 W. El Camino Ave.#1 Sacramento CA 95835.
UID:e.1155.295
SEQUENCE:3
DTSTAMP:20260422T222526Z
URL:https://business.natomaschamber.org/events/details/b2b-mixer-dragon-fire-martial-arts-6-13-12-06-13-2012-295
END:VEVENT

END:VCALENDAR
