BEGIN:VCALENDAR
VERSION:2.0
PRODID:-//ChamberMaster//Event Calendar 2.0//EN
METHOD:PUBLISH
X-PUBLISHED-TTL:P3D
REFRESH-INTERVAL:P3D
CALSCALE:GREGORIAN
BEGIN:VEVENT
DTSTART:20120711T150000Z
DTEND:20120711T160000Z
X-MICROSOFT-CDO-ALLDAYEVENT:FALSE
SUMMARY:B2B Mixer-Cookie Lee Design-7/11/12
DESCRIPTION:Our Monthly Morning B2B Coffee Mixers are great opportunities to start your business day with some coffee\, refreshments and opportunities to network with others in the local business community. Bring plenty of business cards. Attendance is FREE
X-ALT-DESC;FMTTYPE=text/html:Our Monthly Morning B2B Coffee Mixers are great opportunities to start your business day with some coffee\, refreshments and opportunities to network with others in the local business community. Bring plenty of business cards. Attendance is FREE
LOCATION:It's a Grind Coffee Shop 2731 Del Paso Rd Suite 100 Sacramento\, CA 95835
UID:e.1155.296
SEQUENCE:3
DTSTAMP:20260422T221223Z
URL:https://business.natomaschamber.org/events/details/b2b-mixer-cookie-lee-design-7-11-12-07-11-2012-296
END:VEVENT

END:VCALENDAR
