BEGIN:VCALENDAR
VERSION:2.0
PRODID:-//ChamberMaster//Event Calendar 2.0//EN
METHOD:PUBLISH
X-PUBLISHED-TTL:P3D
REFRESH-INTERVAL:P3D
CALSCALE:GREGORIAN
BEGIN:VEVENT
DTSTART:20110914T150000Z
DTEND:20110914T160000Z
X-MICROSOFT-CDO-ALLDAYEVENT:FALSE
SUMMARY:B2B Coffee Mixer - Villagio Apartments
DESCRIPTION:Our Monthly Morning B2B Coffee Mixers are great opportunities to start your business day with some coffee\, refreshments and opportunities to network with others in the local business community. Bring plenty of business cards. Attendance is FREE
X-ALT-DESC;FMTTYPE=text/html:Our Monthly Morning B2B Coffee Mixers are great opportunities to start your business day with some coffee\, refreshments and opportunities to network with others in the local business community. Bring plenty of business cards. Attendance is FREE
LOCATION:Villagio Apartments are pleased to host the September 2011 Natomas Chamber morning coffee mixer. Villagio Apartments are located at 4101 Innovator Drive in Natomas. Tama Harville will be your host.
UID:e.1155.271
SEQUENCE:3
DTSTAMP:20260423T132308Z
URL:https://business.natomaschamber.org/events/details/b2b-coffee-mixer-villagio-apartments-09-14-2011-271
END:VEVENT

END:VCALENDAR
