BEGIN:VCALENDAR
VERSION:2.0
PRODID:-//ChamberMaster//Event Calendar 2.0//EN
METHOD:PUBLISH
X-PUBLISHED-TTL:P3D
REFRESH-INTERVAL:P3D
CALSCALE:GREGORIAN
BEGIN:VEVENT
DTSTART:20130213T160000Z
DTEND:20130213T170000Z
X-MICROSOFT-CDO-ALLDAYEVENT:FALSE
SUMMARY:B2B Coffee Mixer- UPS Store- 2/13/13
DESCRIPTION:Our Monthly Morning B2B Coffee Mixers are great opportunities to start your business day with some coffee\, refreshments and opportunities to network with others in the local business community. Bring plenty of business cards. Attendance is FREE\n\n\n\nGrand Opening for The UPS Store is going to be held on this day as well.
X-ALT-DESC;FMTTYPE=text/html:Our Monthly Morning <span>B2B</span> Coffee Mixers are great opportunities to start your business day with some coffee\, refreshments and opportunities to network with others in the local business community. Bring plenty of business cards. Attendance is FREE<br />\n<br />\nGrand Opening for The UPS Store is going to be held on this day as well.
LOCATION:3230 Arena Blvd\, Suite 245
UID:e.1155.760
SEQUENCE:3
DTSTAMP:20260422T092553Z
URL:https://business.natomaschamber.org/events/details/b2b-coffee-mixer-ups-store-2-13-13-02-13-2013-760
END:VEVENT

END:VCALENDAR
