BEGIN:VCALENDAR
VERSION:2.0
PRODID:-//ChamberMaster//Event Calendar 2.0//EN
METHOD:PUBLISH
X-PUBLISHED-TTL:P3D
REFRESH-INTERVAL:P3D
CALSCALE:GREGORIAN
BEGIN:VEVENT
DTSTART:20130814T150000Z
DTEND:20130814T160000Z
X-MICROSOFT-CDO-ALLDAYEVENT:FALSE
SUMMARY:B2B Coffee Mixer- Sutter Express Care- 8/14/13
DESCRIPTION:Our Monthly Morning B2B Coffee Mixers are great opportunities to start your business day with some coffee\, refreshments and opportunities to network with others in the local business community. Bring plenty of business cards. Attendance is FREE
X-ALT-DESC;FMTTYPE=text/html:Our Monthly Morning <span><span><span>B2B</span></span></span> Coffee Mixers are great opportunities to start your business day with some coffee\, refreshments and opportunities to network with others in the local business community. Bring plenty of business cards. Attendance is FREE
LOCATION:Sutter Express Care Medical Clinic 2751 Del Paso Road Sacramento CA 95835
UID:e.1155.767
SEQUENCE:3
DTSTAMP:20260421T235857Z
URL:https://business.natomaschamber.org/events/details/b2b-coffee-mixer-sutter-express-care-8-14-13-08-14-2013-767
END:VEVENT

END:VCALENDAR
