BEGIN:VCALENDAR
VERSION:2.0
PRODID:-//ChamberMaster//Event Calendar 2.0//EN
METHOD:PUBLISH
X-PUBLISHED-TTL:P3D
REFRESH-INTERVAL:P3D
CALSCALE:GREGORIAN
BEGIN:VEVENT
DTSTART:20111012T150000Z
DTEND:20111012T160000Z
X-MICROSOFT-CDO-ALLDAYEVENT:FALSE
SUMMARY:B2B Coffee Mixer - Sizzler
DESCRIPTION:Our Monthly Morning B2B Coffee Mixers are great opportunities to start your business day with some coffee\, refreshments and opportunities to network with others in the local business community. Bring plenty of business cards. Attendance is FREE
X-ALT-DESC;FMTTYPE=text/html:Our Monthly Morning B2B Coffee Mixers are great opportunities to start your business day with some coffee\, refreshments and opportunities to network with others in the local business community. Bring plenty of business cards. Attendance is FREE
LOCATION:Sizzler is pleased to host the October 2011 Natomas Chamber morning coffee mixer. Sizzler is located at 2901 Advantage Drive in Natomas. Sally Myers will be your host.
UID:e.1155.274
SEQUENCE:3
DTSTAMP:20260423T113214Z
URL:https://business.natomaschamber.org/events/details/b2b-coffee-mixer-sizzler-10-12-2011-274
END:VEVENT

END:VCALENDAR
