BEGIN:VCALENDAR
VERSION:2.0
PRODID:-//ChamberMaster//Event Calendar 2.0//EN
METHOD:PUBLISH
X-PUBLISHED-TTL:P3D
REFRESH-INTERVAL:P3D
CALSCALE:GREGORIAN
BEGIN:VEVENT
DTSTART:20131211T160000Z
DTEND:20131211T170000Z
X-MICROSOFT-CDO-ALLDAYEVENT:FALSE
SUMMARY:B2B Coffee Mixer- Promenade Dental Group and Orthodontics- 12/11/13
DESCRIPTION:Our Monthly Morning B2B Coffee Mixers are great opportunities to start your business day with some coffee\, refreshments and opportunities to network with others in the local business community. Bring plenty of business cards. Attendance is FREE
X-ALT-DESC;FMTTYPE=text/html:Our Monthly Morning <span><span><span><span>B2B</span></span></span></span> Coffee Mixers are great opportunities to start your business day with some coffee\, refreshments and opportunities to network with others in the local business community. Bring plenty of business cards. Attendance is FREE
LOCATION:Promenade Dental Group & Orthodontics 3635 North Freeway Blvd Sacramento\, CA 95834
UID:e.1155.771
SEQUENCE:3
DTSTAMP:20260421T180429Z
URL:https://business.natomaschamber.org/events/details/b2b-coffee-mixer-promenade-dental-group-and-orthodontics-12-11-13-12-11-2013-771
END:VEVENT

END:VCALENDAR
