BEGIN:VCALENDAR
VERSION:2.0
PRODID:-//ChamberMaster//Event Calendar 2.0//EN
METHOD:PUBLISH
X-PUBLISHED-TTL:P3D
REFRESH-INTERVAL:P3D
CALSCALE:GREGORIAN
BEGIN:VEVENT
DTSTART:20111109T160000Z
DTEND:20111109T170000Z
X-MICROSOFT-CDO-ALLDAYEVENT:FALSE
SUMMARY:B2B Coffee Mixer - North Natomas Library
DESCRIPTION:Our Monthly Morning B2B Coffee Mixers are great opportunities to start your business day with some coffee\, refreshments and opportunities to network with others in the local business community. Bring plenty of business cards. Attendance is FREE
X-ALT-DESC;FMTTYPE=text/html:Our Monthly Morning B2B Coffee Mixers are great opportunities to start your business day with some coffee\, refreshments and opportunities to network with others in the local business community. Bring plenty of business cards. Attendance is FREE
LOCATION:The North Natomas Library is pleased to host the November 2011 Natomas Chamber morning coffee mixer. The library is located at 4660 Via Inoglia in Sacramento. Suzy Murray will be your host.
UID:e.1155.276
SEQUENCE:3
DTSTAMP:20260423T092943Z
URL:https://business.natomaschamber.org/events/details/b2b-coffee-mixer-north-natomas-library-11-09-2011-276
END:VEVENT

END:VCALENDAR
