BEGIN:VCALENDAR
VERSION:2.0
PRODID:-//ChamberMaster//Event Calendar 2.0//EN
METHOD:PUBLISH
X-PUBLISHED-TTL:P3D
REFRESH-INTERVAL:P3D
CALSCALE:GREGORIAN
BEGIN:VEVENT
DTSTART:20110511T150000Z
DTEND:20110511T160000Z
X-MICROSOFT-CDO-ALLDAYEVENT:FALSE
SUMMARY:B2B Coffee Mixer - Natomas School of Music
DESCRIPTION:Our Monthly Morning B2B Coffee Mixers are great opportunities to start your business day with some coffee\, refreshments and opportunities to network with others in the local business community. Bring plenty of business cards. Attendance is FREE
X-ALT-DESC;FMTTYPE=text/html:Our Monthly Morning B2B Coffee Mixers are great opportunities to start your business day with some coffee\, refreshments and opportunities to network with others in the local business community. Bring plenty of business cards. Attendance is FREE
LOCATION:The Natomas School of Music is pleased to host the May 2011 Natomas Chamber morning coffee mixer. The Natomas School of Music is located at 4440 Duckhorn Drive in Natomas. Glen Tietjen is your host. (916) 801-3331.
UID:e.1155.220
SEQUENCE:3
DTSTAMP:20260423T185732Z
URL:https://business.natomaschamber.org/events/details/b2b-coffee-mixer-natomas-school-of-music-05-11-2011-220
END:VEVENT

END:VCALENDAR
