BEGIN:VCALENDAR
VERSION:2.0
PRODID:-//ChamberMaster//Event Calendar 2.0//EN
METHOD:PUBLISH
X-PUBLISHED-TTL:P3D
REFRESH-INTERVAL:P3D
CALSCALE:GREGORIAN
BEGIN:VEVENT
DTSTART:20130508T150000Z
DTEND:20130508T160000Z
X-MICROSOFT-CDO-ALLDAYEVENT:FALSE
SUMMARY:B2B Coffee Mixer- Metro PCS- 5/8/13
DESCRIPTION:Our Monthly Morning B2B Coffee Mixers are great opportunities to start your business day with some coffee\, refreshments and opportunities to network with others in the local business community. Bring plenty of business cards. Attendance is FREE
X-ALT-DESC;FMTTYPE=text/html:Our Monthly Morning <span><span><span>B2B</span></span></span> Coffee Mixers are great opportunities to start your business day with some coffee\, refreshments and opportunities to network with others in the local business community. Bring plenty of business cards. Attendance is FREE
LOCATION:Metro PCS 1250 West Capitol Ave West Sacramento\, CA 95691
UID:e.1155.764
SEQUENCE:3
DTSTAMP:20260422T042920Z
URL:https://business.natomaschamber.org/events/details/b2b-coffee-mixer-metro-pcs-5-8-13-05-08-2013-764
END:VEVENT

END:VCALENDAR
