BEGIN:VCALENDAR
VERSION:2.0
PRODID:-//ChamberMaster//Event Calendar 2.0//EN
METHOD:PUBLISH
X-PUBLISHED-TTL:P3D
REFRESH-INTERVAL:P3D
CALSCALE:GREGORIAN
BEGIN:VEVENT
DTSTART:20130410T150000Z
DTEND:20130410T160000Z
X-MICROSOFT-CDO-ALLDAYEVENT:FALSE
SUMMARY:B2B Coffee Mixer- Lyon Real Estate- 4/10/13
DESCRIPTION:Our Monthly Morning B2B Coffee Mixers are great opportunities to start your business day with some coffee\, refreshments and opportunities to network with others in the local business community. Bring plenty of business cards. Attendance is FREE
X-ALT-DESC;FMTTYPE=text/html:Our Monthly Morning <span><span>B2B</span></span> Coffee Mixers are great opportunities to start your business day with some coffee\, refreshments and opportunities to network with others in the local business community. Bring plenty of business cards. Attendance is FREE<br />\n<br />\n
LOCATION:2400 Del Paso Road #195\, Sacramento\, CA 95834
UID:e.1155.763
SEQUENCE:3
DTSTAMP:20260422T060315Z
URL:https://business.natomaschamber.org/events/details/b2b-coffee-mixer-lyon-real-estate-4-10-13-04-10-2013-763
END:VEVENT

END:VCALENDAR
