BEGIN:VCALENDAR
VERSION:2.0
PRODID:-//ChamberMaster//Event Calendar 2.0//EN
METHOD:PUBLISH
X-PUBLISHED-TTL:P3D
REFRESH-INTERVAL:P3D
CALSCALE:GREGORIAN
BEGIN:VEVENT
DTSTART:20131009T150000Z
DTEND:20131009T160000Z
X-MICROSOFT-CDO-ALLDAYEVENT:FALSE
SUMMARY:B2B Coffee Mixer- Gilbert & Associates\, Inc.- 10/9/13
DESCRIPTION:Our Monthly Morning B2B Coffee Mixers are great opportunities to start your business day with some coffee\, refreshments and opportunities to network with others in the local business community. Bring plenty of business cards. Attendance is FREE
X-ALT-DESC;FMTTYPE=text/html:Our Monthly Morning <span><span><span>B2B</span></span></span> Coffee Mixers are great opportunities to start your business day with some coffee\, refreshments and opportunities to network with others in the local business community. Bring plenty of business cards. Attendance is FREE
LOCATION:Gilbert & Associates\, Inc 2880 Gateway Oaks Drive\, Suite 100 Sacramento\, CA 95833
UID:e.1155.769
SEQUENCE:3
DTSTAMP:20260421T211036Z
URL:https://business.natomaschamber.org/events/details/b2b-coffee-mixer-gilbert-associates-inc-10-9-13-10-09-2013-769
END:VEVENT

END:VCALENDAR
