BEGIN:VCALENDAR
VERSION:2.0
PRODID:-//ChamberMaster//Event Calendar 2.0//EN
METHOD:PUBLISH
X-PUBLISHED-TTL:P3D
REFRESH-INTERVAL:P3D
CALSCALE:GREGORIAN
BEGIN:VEVENT
DTSTART:20130612T150000Z
DTEND:20130612T160000Z
X-MICROSOFT-CDO-ALLDAYEVENT:FALSE
SUMMARY:B2B Coffee Mixer- Gateway Dental- 6/12/13
DESCRIPTION:Our Monthly Morning B2B Coffee Mixers are great opportunities to start your business day with some coffee\, refreshments and opportunities to network with others in the local business community. Bring plenty of business cards. Attendance is FREE
X-ALT-DESC;FMTTYPE=text/html:Our Monthly Morning <span><span><span>B2B</span></span></span> Coffee Mixers are great opportunities to start your business day with some coffee\, refreshments and opportunities to network with others in the local business community. Bring plenty of business cards. Attendance is FREE
LOCATION:Gateway Dental 2550 West El Camino Ave\, Suite 9 Sacramento\, Ca 95833
UID:e.1155.765
SEQUENCE:3
DTSTAMP:20260422T025123Z
URL:https://business.natomaschamber.org/events/details/b2b-coffee-mixer-gateway-dental-6-12-13-06-12-2013-765
END:VEVENT

END:VCALENDAR
