BEGIN:VCALENDAR
VERSION:2.0
PRODID:-//ChamberMaster//Event Calendar 2.0//EN
METHOD:PUBLISH
X-PUBLISHED-TTL:P3D
REFRESH-INTERVAL:P3D
CALSCALE:GREGORIAN
BEGIN:VEVENT
DTSTART:20111207T160000Z
DTEND:20111207T170000Z
X-MICROSOFT-CDO-ALLDAYEVENT:FALSE
SUMMARY:B2B Coffee Mixer -Crosspointe Church-12/7/11
DESCRIPTION:Our Monthly Morning B2B Coffee Mixers are great opportunities to start your business day with some coffee\, refreshments and opportunities to network with others in the local business community. Bring plenty of business cards. Attendance is FREE
X-ALT-DESC;FMTTYPE=text/html:Our Monthly Morning B2B Coffee Mixers are great opportunities to start your business day with some coffee\, refreshments and opportunities to network with others in the local business community. Bring plenty of business cards. Attendance is FREE
LOCATION:Crosspointe Church is pleased to host the December 2011 Natomas Chamber morning coffee mixer. Crosspointe Church is located at 2406 Del Paso Road in Sacramento 95834 .
UID:e.1155.280
SEQUENCE:3
DTSTAMP:20260423T073335Z
URL:https://business.natomaschamber.org/events/details/b2b-coffee-mixer-crosspointe-church-12-7-11-12-07-2011-280
END:VEVENT

END:VCALENDAR
