BEGIN:VCALENDAR
VERSION:2.0
PRODID:-//ChamberMaster//Event Calendar 2.0//EN
METHOD:PUBLISH
X-PUBLISHED-TTL:P3D
REFRESH-INTERVAL:P3D
CALSCALE:GREGORIAN
BEGIN:VEVENT
DTSTART:20130313T150000Z
DTEND:20130313T160000Z
X-MICROSOFT-CDO-ALLDAYEVENT:FALSE
SUMMARY:B2B Coffee Mixer-Cookie Lee Jewelry- 3/13/13
DESCRIPTION:Our Monthly Morning B2B Coffee Mixers are great opportunities to start your business day with some coffee\, refreshments and opportunities to network with others in the local business community. Bring plenty of business cards. Attendance is FREE
X-ALT-DESC;FMTTYPE=text/html:Our Monthly Morning <span><span>B2B</span></span> Coffee Mixers are great opportunities to start your business day with some coffee\, refreshments and opportunities to network with others in the local business community. Bring plenty of business cards. Attendance is FREE<br />\n<br />\n
LOCATION:Mixer to be held at Its a grind coffee shop. 2731 Del Paso Rd Ste 100 Sacramento\, CA 95835
UID:e.1155.762
SEQUENCE:3
DTSTAMP:20260422T092212Z
URL:https://business.natomaschamber.org/events/details/b2b-coffee-mixer-cookie-lee-jewelry-3-13-13-03-13-2013-762
END:VEVENT

END:VCALENDAR
