BEGIN:VCALENDAR
VERSION:2.0
PRODID:-//ChamberMaster//Event Calendar 2.0//EN
METHOD:PUBLISH
X-PUBLISHED-TTL:P3D
REFRESH-INTERVAL:P3D
CALSCALE:GREGORIAN
BEGIN:VEVENT
DTSTART:20110713T150000Z
DTEND:20110713T160000Z
X-MICROSOFT-CDO-ALLDAYEVENT:FALSE
SUMMARY:B2B Coffee Mixer - Comstock Mortgage - The Garcia Group
DESCRIPTION:Comstock Mortgage - The Garcia Grroup is pleased to host the Jully 2011 Natomas Chamber morning B2B Coffee mixer. \n\n\n\nOur Monthly Morning B2B Coffee Mixers are great opportunities to start your business day with some coffee\, refreshments and opportunities to network with others in the local business community. Bring plenty of business cards. Attendance is FREE.
X-ALT-DESC;FMTTYPE=text/html:Comstock Mortgage - The Garcia Grroup is pleased to host the Jully 2011 Natomas Chamber morning B2B Coffee mixer.&nbsp\;<br />\n<br />\nOur Monthly Morning B2B Coffee Mixers are great opportunities to start your business day with some coffee\, refreshments and opportunities to network with others in the local business community. Bring plenty of business cards. Attendance is FREE.
LOCATION:Comstock Mortgage - The Garcia Grroup is located at 2250 Del Paso Road in Natomas. Sarah Tieszen is your host. (916) 575-9740.
UID:e.1155.236
SEQUENCE:3
DTSTAMP:20260423T161249Z
URL:https://business.natomaschamber.org/events/details/b2b-coffee-mixer-comstock-mortgage-the-garcia-group-07-13-2011-236
END:VEVENT

END:VCALENDAR
