BEGIN:VCALENDAR
VERSION:2.0
PRODID:-//ChamberMaster//Event Calendar 2.0//EN
METHOD:PUBLISH
X-PUBLISHED-TTL:P3D
REFRESH-INTERVAL:P3D
CALSCALE:GREGORIAN
BEGIN:VEVENT
DTSTART:20110810T150000Z
DTEND:20110810T160000Z
X-MICROSOFT-CDO-ALLDAYEVENT:FALSE
SUMMARY:B2B Coffee Mixer - Cartridge World
DESCRIPTION:Cartridge World of Natomas is pleased to host the August 2011 Natomas Chamber morning B2B Coffee mixer. \n\n\n\nOur Monthly Morning B2B Coffee Mixers are great opportunities to start your business day with some coffee\, refreshments and opportunities to network with others in the local business community. Bring plenty of business cards. Attendance is FREE.
X-ALT-DESC;FMTTYPE=text/html:Cartridge World of Natomas is pleased to host the August 2011 Natomas Chamber morning B2B Coffee mixer.&nbsp\;<br />\n<br />\nOur Monthly Morning B2B Coffee Mixers are great opportunities to start your business day with some coffee\, refreshments and opportunities to network with others in the local business community. Bring plenty of business cards. Attendance is FREE.
LOCATION:Cartridge World - Sacramento is located at 3890 Truxel Road in Natomas. Scott Hansel is your host. (916) 285-8611.
UID:e.1155.241
SEQUENCE:3
DTSTAMP:20260423T150905Z
URL:https://business.natomaschamber.org/events/details/b2b-coffee-mixer-cartridge-world-08-10-2011-241
END:VEVENT

END:VCALENDAR
