BEGIN:VCALENDAR
VERSION:2.0
PRODID:-//ChamberMaster//Event Calendar 2.0//EN
METHOD:PUBLISH
X-PUBLISHED-TTL:P3D
REFRESH-INTERVAL:P3D
CALSCALE:GREGORIAN
BEGIN:VEVENT
DTSTART:20110608T150000Z
DTEND:20110608T150000Z
X-MICROSOFT-CDO-ALLDAYEVENT:FALSE
SUMMARY:B2B Coffee Mixer - Black Bear Diner
DESCRIPTION:Our Monthly Morning B2B Coffee Mixers are great opportunities to start your business day with some coffee\, refreshments and opportunities to network with others in the local business community. Bring plenty of business cards. Attendance is FREE
X-ALT-DESC;FMTTYPE=text/html:Our Monthly Morning B2B Coffee Mixers are great opportunities to start your business day with some coffee\, refreshments and opportunities to network with others in the local business community. Bring plenty of business cards. Attendance is FREE
LOCATION:The Black Bear Diner is pleased to host the June 2011 Natomas Chamber morning coffee mixer. The Black Bear Diner is located at 2700 El Centro Road in Natomas. Artie Reveles is your host. (916) 257 -4127.
UID:e.1155.234
SEQUENCE:3
DTSTAMP:20260423T174011Z
URL:https://business.natomaschamber.org/events/details/b2b-coffee-mixer-black-bear-diner-06-08-2011-234
END:VEVENT

END:VCALENDAR
