BEGIN:VCALENDAR
VERSION:2.0
PRODID:-//ChamberMaster//Event Calendar 2.0//EN
METHOD:PUBLISH
X-PUBLISHED-TTL:P3D
REFRESH-INTERVAL:P3D
CALSCALE:GREGORIAN
BEGIN:VEVENT
DTSTART:20110507T180000Z
DTEND:20110507T180000Z
X-MICROSOFT-CDO-ALLDAYEVENT:FALSE
SUMMARY:Art of Mattar Annual 20/20 Art EXhibit Don't Miss 1200 creations
DESCRIPTION:Exciting the Best of the Best\, 58 artists were selected to create art in ceramic\, wood\, oil\, photography\, watercolor\, and acrylic   all affordable original art 8' x 8' \n\nThis is the time to find that one of a kind unique art for your home and / or  office.
X-ALT-DESC;FMTTYPE=text/html:Exciting the Best of the Best\, 58 artists were selected to create art in ceramic\, wood\, oil\, photography\, watercolor\, and acrylic   all affordable original art 8' x 8' \n<br>This is the time to find that one of a kind unique art for your home and / or  office. 
LOCATION:Kennedy Art Center Mid-Town 1114 20th St between K and L Sacramento
UID:e.1155.1
SEQUENCE:3
DTSTAMP:20260423T185918Z
URL:https://business.natomaschamber.org/events/details/art-of-mattar-annual-20-20-art-exhibit-don-t-miss-1200-creations-05-07-2011-1
END:VEVENT

END:VCALENDAR
