BEGIN:VCALENDAR
VERSION:2.0
PRODID:-//ChamberMaster//Event Calendar 2.0//EN
METHOD:PUBLISH
X-PUBLISHED-TTL:P3D
REFRESH-INTERVAL:P3D
CALSCALE:GREGORIAN
BEGIN:VEVENT
DTSTART:20110729T230000Z
DTEND:20110730T020000Z
X-MICROSOFT-CDO-ALLDAYEVENT:FALSE
SUMMARY:Art: Celebrating Life 1114 20th St. MidTown
DESCRIPTION:Special Reception in ART Gallery Bold Bright Paintings of Dianne's\, along with 9 other artists wood\, ceramics\, clay and photography....don't miss this family friendly fun event with goodies to eat & refreshments
X-ALT-DESC;FMTTYPE=text/html:<h3 style="color: blue">\n	<span style="color: #0000cd"><strong>Special Reception in ART Gallery Bold Bright Paintings of Dianne&#39\;s\, along with 9 other artists wood\, ceramics\, clay and photography....don&#39\;t miss this family friendly fun event with goodies to eat &amp\; refreshments</strong></span></h3>\n
LOCATION:Kennedy Gallery Art Center MidTown 1114 20th St. between K & L streets
UID:e.1155.243
SEQUENCE:3
DTSTAMP:20260423T161243Z
URL:https://business.natomaschamber.org/events/details/art-celebrating-life-1114-20th-st-midtown-07-29-2011-243
END:VEVENT

END:VCALENDAR
