BEGIN:VCALENDAR
VERSION:2.0
PRODID:-//ChamberMaster//Event Calendar 2.0//EN
METHOD:PUBLISH
X-PUBLISHED-TTL:P3D
REFRESH-INTERVAL:P3D
CALSCALE:GREGORIAN
BEGIN:VEVENT
DTSTART;VALUE=DATE:20121006
DTEND;VALUE=DATE:20121007
TRANSP:TRANSPARENT
X-MICROSOFT-CDO-ALLDAYEVENT:TRUE
SUMMARY:Annual Parish Festival
DESCRIPTION:ANNUAL PARISH  FESTIVAL   JOIN THE FUN      SATURDAY  Oct. 6th\, 2012    Hours: 10:00 am to 5:00 pm\n\nFOOD +  ENTERTAINMENT+ BOUNCE HOUSES + GAMES + BEER GARDEN + FUN\n\nFestival in parking lot of  Divine Mercy Catholic Church  2231 Club Center Drive\, Natomas Area
X-ALT-DESC;FMTTYPE=text/html:ANNUAL PARISH&nbsp\; FESTIVAL &nbsp\; JOIN THE FUN&nbsp\;&nbsp\;&nbsp\;&nbsp\;&nbsp\; SATURDAY&nbsp\; Oct. 6th\, 2012&nbsp\;&nbsp\;&nbsp\; Hours: 10:00 am to 5:00 pm<br />\nFOOD +&nbsp\; ENTERTAINMENT+ BOUNCE HOUSES + GAMES + BEER GARDEN + FUN<br />\nFestival in parking lot of&nbsp\; Divine Mercy Catholic Church&nbsp\; 2231 Club Center Drive\, Natomas Area
LOCATION:2231 Club Center Drive\, Sacramento near corner of Natomas Blvd. & Club Center Drive
UID:e.1155.610
SEQUENCE:3
DTSTAMP:20260422T160301Z
URL:https://business.natomaschamber.org/events/details/annual-parish-festival-10-06-2012-610
END:VEVENT

END:VCALENDAR
