BEGIN:VCALENDAR
VERSION:2.0
PRODID:-//ChamberMaster//Event Calendar 2.0//EN
METHOD:PUBLISH
X-PUBLISHED-TTL:P3D
REFRESH-INTERVAL:P3D
CALSCALE:GREGORIAN
BEGIN:VEVENT
DTSTART:20110624T003000Z
DTEND:20110624T020000Z
X-MICROSOFT-CDO-ALLDAYEVENT:FALSE
SUMMARY:Annual Member Meeting\, Board Election\, Mixer - June 23 - Hilton Garden Inn
DESCRIPTION:Our Annual Membership Meeting and Board of Director election will be held in conjunction with the June 2011 Evening Mixer.\n\n\n\nOur Monthly Business Mixers are great opportunities to share your business products and services with others in the local business community.\n\n\n\nJoin us for some appetizers and refreshments as we exchange business cards\, leads and referrals.\n\n\n\nIf you bring a raffle item (bottle of wine\, gift card\, etc) we will give you a 30 second commercial to present yourself and your business/company. Bring plenty of business cards. Members are FREE and non-members are $10.00
X-ALT-DESC;FMTTYPE=text/html:Our Annual Membership Meeting and Board of Director election will be held in conjunction with the June 2011 Evening Mixer.<br />\n<br />\nOur Monthly Business Mixers are great opportunities to share your business products and services with others in the local business community.<br />\n<br />\nJoin us for some appetizers and refreshments as we exchange business cards\, leads and referrals.<br />\n<br />\nIf you bring a raffle item (bottle of wine\, gift card\, etc) we will give you a 30 second commercial to present yourself and your business/company. Bring plenty of business cards. Members are FREE and non-members are $10.00
LOCATION:Hilton Garden Inn 2540 Venture Oaks Way Sacramento\, CA 95833-3200 (916) 568-5400
UID:e.1155.235
SEQUENCE:3
DTSTAMP:20260423T174724Z
URL:https://business.natomaschamber.org/events/details/annual-member-meeting-board-election-mixer-june-23-hilton-garden-inn-06-23-2011-235
END:VEVENT

END:VCALENDAR
