BEGIN:VCALENDAR
VERSION:2.0
PRODID:-//ChamberMaster//Event Calendar 2.0//EN
METHOD:PUBLISH
X-PUBLISHED-TTL:P3D
REFRESH-INTERVAL:P3D
CALSCALE:GREGORIAN
BEGIN:VEVENT
DTSTART:20120629T003000Z
DTEND:20120629T020000Z
X-MICROSOFT-CDO-ALLDAYEVENT:FALSE
SUMMARY:Annual Member Meeting\, Board Election\, Mixer-6/28/12
DESCRIPTION:Please join us for this important meeting. It is an opportunity for Chamber members to nominate candidates to the board of directors. It is also an opportunity for non members to learn about the Chamber while networking with other local businesses. Members are free and non members are $10. Please be sure to bring business cards. Members may bring a raffle prize and in turn are given thirty seconds to promote themselves and their business. The optional raffle is open to everyone. Tickets are $1 each or 13 for $10. \n\n\n\nIf you have been thinking about joining the Chamber there will not be a better time. We will be offering $25 off our normal membership rate to anyone who signs up at the event.\n\n\n\nWe hope to see you there!
X-ALT-DESC;FMTTYPE=text/html:<span style="font-size: 8px"><span style="font-family: arial"><font style="font-size: 13pt">Please join us for this important meeting. It is an opportunity for Chamber members to nominate candidates to the board of directors. It is also an opportunity for non members to learn about the Chamber while networking with other local businesses. Members are free and non members are $10. Please be sure to bring business cards. Members may bring a raffle prize and in turn are given thirty seconds to promote themselves and their business. The optional raffle is open to everyone. Tickets are $1 each or 13 for $10. </font><br />\n<br />\n<font style="font-size: 13pt">If you have been thinking about joining the Chamber there will not be a better time. We will be offering $25 off our normal membership rate to anyone who signs up at the event.</font><br />\n<br />\n<font style="font-size: 13pt">We hope to see you there!</font></span></span><font face="Calisto MT\, serif"><font size="3" style="font-size: 13pt"><span _fck_bookmark="1" style="display: none">&nbsp\;</span></font></font>
LOCATION:On the Border 3521 Truxel Road Sacramento CA 95834
UID:e.1155.320
SEQUENCE:3
DTSTAMP:20260422T222756Z
URL:https://business.natomaschamber.org/events/details/annual-member-meeting-board-election-mixer-6-28-12-06-28-2012-320
END:VEVENT

END:VCALENDAR
