BEGIN:VCALENDAR
VERSION:2.0
PRODID:-//ChamberMaster//Event Calendar 2.0//EN
METHOD:PUBLISH
X-PUBLISHED-TTL:P3D
REFRESH-INTERVAL:P3D
CALSCALE:GREGORIAN
BEGIN:VEVENT
DTSTART:20120227T200000Z
DTEND:20120227T213000Z
X-MICROSOFT-CDO-ALLDAYEVENT:FALSE
SUMMARY:8th Annual State of Natomas-02/27/12
DESCRIPTION:Confirmed speakers who will address the current state of Natomas will include Sacramento Vice Mayor Angelique Ashby\, Councilmember Steve Cohn\, and Councilmember Steve Hansen.
X-ALT-DESC;FMTTYPE=text/html:Confirmed speakers who will address the current state of Natomas will include Sacramento Vice Mayor Angelique Ashby\, Councilmember Steve Cohn\, and Councilmember Steve Hansen.&nbsp\; 
LOCATION:Four Points by Sheraton 4900 Duckhorn Drive Sacramento CA 95834
UID:e.1155.305
SEQUENCE:3
DTSTAMP:20260423T040636Z
URL:https://business.natomaschamber.org/events/details/8th-annual-state-of-natomas-02-27-12-02-27-2012-305
END:VEVENT

END:VCALENDAR
