BEGIN:VCALENDAR
VERSION:2.0
PRODID:-//ChamberMaster//Event Calendar 2.0//EN
METHOD:PUBLISH
X-PUBLISHED-TTL:P3D
REFRESH-INTERVAL:P3D
CALSCALE:GREGORIAN
BEGIN:VEVENT
DTSTART:20130927T200000Z
DTEND:20130928T000000Z
X-MICROSOFT-CDO-ALLDAYEVENT:FALSE
SUMMARY:8th Annual Natomas Chamber Scramble
DESCRIPTION:
X-ALT-DESC;FMTTYPE=text/html:
LOCATION:Teal Bend Golf Course 7200 Garden Highway Sacramento CA 95837
UID:e.1155.847
SEQUENCE:3
DTSTAMP:20260421T221144Z
URL:https://business.natomaschamber.org/events/details/8th-annual-natomas-chamber-scramble-09-27-2013-847
END:VEVENT

END:VCALENDAR
