BEGIN:VCALENDAR
VERSION:2.0
PRODID:-//ChamberMaster//Event Calendar 2.0//EN
METHOD:PUBLISH
X-PUBLISHED-TTL:P3D
REFRESH-INTERVAL:P3D
CALSCALE:GREGORIAN
BEGIN:VEVENT
DTSTART:20120927T183000Z
DTEND:20120927T190000Z
X-MICROSOFT-CDO-ALLDAYEVENT:FALSE
SUMMARY:7th Annual Natomas Golf Scramble
DESCRIPTION:Come out and join us for the 7th annual Natomas golf scramble.\n\n\n\n$99 per individual golfer\n\n	\n\n	SPONSORSHIP \n\n	\n\n	EAGLE - $1000\n\n	Exclusive to one sponsor and includes:\n\n	  Foursome\n\n	  Sponsor banner prominently displayed at tournament\n\n	  Sponsor logo on tournament signage and\n\n	name recognition at event\n\n	  Advertising on the eblast and website as EAGLE sponsor\n\n	  Sponsor recognition as EAGLE sponsor on\n\n	promotional materials\n\n	  Tee sponsor included\n\n	  Signage on one drink cart\n\n	  Promotional materials at every place setting\n\n	during the dinner\n\n	BIRDIE - $500\n\n	  Twosome\n\n	  Sponsor banner prominently displayed at tournament\n\n	  Sponsor logo on tournament signage and\n\n	name recognition at the event\n\n	  Advertising on the website\n\n	  Signage on one drink cart\n\n	  Tee sponsor included\n\n	PAR - $250\n\n	  Sponsor banner prominenetly displayed at tournament\n\n	  Sponsor name on tournament signage and\n\n	name recognition at the event\n\n	  Advertising on the website\n\n	TEE - $125\n\n	  Sponsor signage prominently displayed at the tee\n\n	  Hosting the tee is encouraged. Hosted tees are\n\n	entered into the contest for Best Tee Sponsor
X-ALT-DESC;FMTTYPE=text/html:Come out and join us for the 7th annual Natomas golf scramble.<br />\n<br />\n<font face="HelveticaNeue-MediumExt" size="1"><font face="HelveticaNeue-MediumExt" size="1">$99 <font face="HelveticaNeue-LightExt" size="1"><font face="HelveticaNeue-LightExt" size="1">per individual </font></font><font face="HelveticaNeue-MediumExt" size="1"><font face="HelveticaNeue-MediumExt" size="1">golfer</font></font></font></font>\n<p align="left">\n	<br />\n	<font face="HelveticaNeue-MediumExt" size="1"><font face="HelveticaNeue-MediumExt" size="1"><u>SPONSORSHIP </u><br />\n	<br />\n	EAGLE - $1000</font></font></p>\n<p align="left">\n	<font face="Helvetica-Condensed-Light" size="1"><font face="Helvetica-Condensed-Light" size="1">Exclusive to one sponsor and includes:</font></font></p>\n<p align="left">\n	<font face="Helvetica-Condensed-Light" size="1"><font face="Helvetica-Condensed-Light" size="1">&bull\; Foursome</font></font></p>\n<p align="left">\n	<font face="Helvetica-Condensed-Light" size="1"><font face="Helvetica-Condensed-Light" size="1">&bull\; Sponsor banner prominently displayed at tournament</font></font></p>\n<p align="left">\n	<font face="Helvetica-Condensed-Light" size="1"><font face="Helvetica-Condensed-Light" size="1">&bull\; Sponsor logo on tournament signage and</font></font></p>\n<p align="left">\n	<font face="Helvetica-Condensed-Light" size="1"><font face="Helvetica-Condensed-Light" size="1">name recognition at event</font></font></p>\n<p align="left">\n	<font face="Helvetica-Condensed-Light" size="1"><font face="Helvetica-Condensed-Light" size="1">&bull\; Advertising on the eblast and website as EAGLE sponsor</font></font></p>\n<p align="left">\n	<font face="Helvetica-Condensed-Light" size="1"><font face="Helvetica-Condensed-Light" size="1">&bull\; Sponsor recognition as EAGLE sponsor on</font></font></p>\n<p align="left">\n	<font face="Helvetica-Condensed-Light" size="1"><font face="Helvetica-Condensed-Light" size="1">promotional materials</font></font></p>\n<p align="left">\n	<font face="Helvetica-Condensed-Light" size="1"><font face="Helvetica-Condensed-Light" size="1">&bull\; Tee sponsor included</font></font></p>\n<p align="left">\n	<font face="Helvetica-Condensed-Light" size="1"><font face="Helvetica-Condensed-Light" size="1">&bull\; Signage on one drink cart</font></font></p>\n<p align="left">\n	<font face="Helvetica-Condensed-Light" size="1"><font face="Helvetica-Condensed-Light" size="1">&bull\; Promotional materials at every place setting</font></font></p>\n<p align="left">\n	<font face="Helvetica-Condensed-Light" size="1"><font face="Helvetica-Condensed-Light" size="1">during the dinner</font></font></p>\n<p align="left">\n	<font face="HelveticaNeue-MediumExt" size="1"><font face="HelveticaNeue-MediumExt" size="1">BIRDIE - $500</font></font></p>\n<p align="left">\n	<font face="Helvetica-Condensed-Light" size="1"><font face="Helvetica-Condensed-Light" size="1">&bull\; Twosome</font></font></p>\n<p align="left">\n	<font face="Helvetica-Condensed-Light" size="1"><font face="Helvetica-Condensed-Light" size="1">&bull\; Sponsor banner prominently displayed at tournament</font></font></p>\n<p align="left">\n	<font face="Helvetica-Condensed-Light" size="1"><font face="Helvetica-Condensed-Light" size="1">&bull\; Sponsor logo on tournament signage and</font></font></p>\n<p align="left">\n	<font face="Helvetica-Condensed-Light" size="1"><font face="Helvetica-Condensed-Light" size="1">name recognition at the event</font></font></p>\n<p align="left">\n	<font face="Helvetica-Condensed-Light" size="1"><font face="Helvetica-Condensed-Light" size="1">&bull\; Advertising on the website</font></font></p>\n<p align="left">\n	<font face="Helvetica-Condensed-Light" size="1"><font face="Helvetica-Condensed-Light" size="1">&bull\; Signage on one drink cart</font></font></p>\n<p align="left">\n	<font face="Helvetica-Condensed-Light" size="1"><font face="Helvetica-Condensed-Light" size="1">&bull\; Tee sponsor included</font></font></p>\n<p align="left">\n	<font face="HelveticaNeue-MediumExt" size="1"><font face="HelveticaNeue-MediumExt" size="1">PAR - $250</font></font></p>\n<p align="left">\n	<font face="Helvetica-Condensed-Light" size="1"><font face="Helvetica-Condensed-Light" size="1">&bull\; Sponsor banner prominenetly displayed at tournament</font></font></p>\n<p align="left">\n	<font face="Helvetica-Condensed-Light" size="1"><font face="Helvetica-Condensed-Light" size="1">&bull\; Sponsor name on tournament signage and</font></font></p>\n<p align="left">\n	<font face="Helvetica-Condensed-Light" size="1"><font face="Helvetica-Condensed-Light" size="1">name recognition at the event</font></font></p>\n<p align="left">\n	<font face="Helvetica-Condensed-Light" size="1"><font face="Helvetica-Condensed-Light" size="1">&bull\; Advertising on the website</font></font></p>\n<p align="left">\n	<font face="HelveticaNeue-MediumExt" size="1"><font face="HelveticaNeue-MediumExt" size="1">TEE - $125</font></font></p>\n<p align="left">\n	<font face="Helvetica-Condensed-Light" size="1"><font face="Helvetica-Condensed-Light" size="1">&bull\; Sponsor signage prominently displayed at the tee</font></font></p>\n<p align="left">\n	<font face="Helvetica-Condensed-Light" size="1"><font face="Helvetica-Condensed-Light" size="1">&bull\; Hosting the tee is encouraged. Hosted tees are</font></font></p>\n<p align="left">\n	<font face="Helvetica-Condensed-Light" size="1"><font face="Helvetica-Condensed-Light" size="1">entered into the contest for Best Tee Sponsor</font></font></p>\n<p>\n	<font face="HelveticaNeue-MediumExt" size="1"><font face="HelveticaNeue-MediumExt" size="1">&nbsp\;</font></font></p>\n<br />\n
LOCATION:Teal Bend Golf Course 7200 Garden Highway Sacramento\, CA 95837
UID:e.1155.594
SEQUENCE:3
DTSTAMP:20260422T174652Z
URL:https://business.natomaschamber.org/events/details/7th-annual-natomas-golf-scramble-09-27-2012-594
END:VEVENT

END:VCALENDAR
